BEGIN:VCALENDAR
VERSION:2.0
PRODID:-//Gulf Coast MotorSports - ECPv6.15.20//NONSGML v1.0//EN
CALSCALE:GREGORIAN
METHOD:PUBLISH
X-ORIGINAL-URL:https://gulfcoastmotorsports.com
X-WR-CALDESC:Events for Gulf Coast MotorSports
REFRESH-INTERVAL;VALUE=DURATION:PT1H
X-Robots-Tag:noindex
X-PUBLISHED-TTL:PT1H
BEGIN:VTIMEZONE
TZID:America/Denver
BEGIN:DAYLIGHT
TZOFFSETFROM:-0700
TZOFFSETTO:-0600
TZNAME:MDT
DTSTART:20250309T090000
END:DAYLIGHT
BEGIN:STANDARD
TZOFFSETFROM:-0600
TZOFFSETTO:-0700
TZNAME:MST
DTSTART:20251102T080000
END:STANDARD
BEGIN:DAYLIGHT
TZOFFSETFROM:-0700
TZOFFSETTO:-0600
TZNAME:MDT
DTSTART:20260308T090000
END:DAYLIGHT
BEGIN:STANDARD
TZOFFSETFROM:-0600
TZOFFSETTO:-0700
TZNAME:MST
DTSTART:20261101T080000
END:STANDARD
BEGIN:DAYLIGHT
TZOFFSETFROM:-0700
TZOFFSETTO:-0600
TZNAME:MDT
DTSTART:20270314T090000
END:DAYLIGHT
BEGIN:STANDARD
TZOFFSETFROM:-0600
TZOFFSETTO:-0700
TZNAME:MST
DTSTART:20271107T080000
END:STANDARD
END:VTIMEZONE
BEGIN:VEVENT
DTSTART;VALUE=DATE:20260912
DTEND;VALUE=DATE:20260913
DTSTAMP:20260423T152636
CREATED:20260402T182616Z
LAST-MODIFIED:20260402T183713Z
UID:10000125-1789171200-1789257599@gulfcoastmotorsports.com
SUMMARY:15th Annual Red Creek Classic Antique Car Appreciation Picnic & Cruise-in
DESCRIPTION:September 12 Wiggins\, MS  15th Annual Red Creek Classic Antique Car Appreciation Picnic & Cruise-in 2026\, will take place Saturday\, September 12th at Flint Creek Water Park\, Wiggins\, MS. Car Club Appreciation Day Picnic. ALL Car Clubs and Independents are invited to attend – there will be food and cold drinks. (contributions and donations accepted). Sponsored in part by: Stone County Supervisors\, City of Wiggins. There is a large air-conditioned building (just in case you need to get out of the heat) and plenty of shade trees. No charge to attend. Hosted by the Red Creek Classics car club. NSRA Appreciation Day will be at the Appreciation Picnic & Cruise-in (don’t forget your NSRA membership card to get your appreciation pin) Info: Charlie 601.528.1172. \n 
URL:https://gulfcoastmotorsports.com/event/15th-annual-red-creek-classic-antique-car-appreciation-picnic-cruise-in/
LOCATION:Flint Creek\, 1216 Parkway Dr\, Wiggins\, MS\, 39577\, United States
ATTACH;FMTTYPE=image/png:https://gulfcoastmotorsports.com/wp-content/uploads/2026/04/15th-Red-Creek-Classic-picnic.png
END:VEVENT
END:VCALENDAR